BEGIN:VCALENDAR
VERSION:2.0
PRODID:-//Yoga, Pilates, Reha Sport Wuppertal - ECPv6.15.20//NONSGML v1.0//EN
CALSCALE:GREGORIAN
METHOD:PUBLISH
X-WR-CALNAME:Yoga, Pilates, Reha Sport Wuppertal
X-ORIGINAL-URL:https://tripada-wuppertal.de
X-WR-CALDESC:Veranstaltungen für Yoga, Pilates, Reha Sport Wuppertal
REFRESH-INTERVAL;VALUE=DURATION:PT1H
X-Robots-Tag:noindex
X-PUBLISHED-TTL:PT1H
BEGIN:VTIMEZONE
TZID:Europe/Berlin
BEGIN:DAYLIGHT
TZOFFSETFROM:+0100
TZOFFSETTO:+0200
TZNAME:CEST
DTSTART:20250330T010000
END:DAYLIGHT
BEGIN:STANDARD
TZOFFSETFROM:+0200
TZOFFSETTO:+0100
TZNAME:CET
DTSTART:20251026T010000
END:STANDARD
BEGIN:DAYLIGHT
TZOFFSETFROM:+0100
TZOFFSETTO:+0200
TZNAME:CEST
DTSTART:20260329T010000
END:DAYLIGHT
BEGIN:STANDARD
TZOFFSETFROM:+0200
TZOFFSETTO:+0100
TZNAME:CET
DTSTART:20261025T010000
END:STANDARD
BEGIN:DAYLIGHT
TZOFFSETFROM:+0100
TZOFFSETTO:+0200
TZNAME:CEST
DTSTART:20270328T010000
END:DAYLIGHT
BEGIN:STANDARD
TZOFFSETFROM:+0200
TZOFFSETTO:+0100
TZNAME:CET
DTSTART:20271031T010000
END:STANDARD
END:VTIMEZONE
BEGIN:VEVENT
DTSTART;TZID=Europe/Berlin:20260422T090000
DTEND;TZID=Europe/Berlin:20260422T094500
DTSTAMP:20260422T015242
CREATED:20241204T142933Z
LAST-MODIFIED:20251031T110353Z
UID:10023775-1776848400-1776851100@tripada-wuppertal.de
SUMMARY:Rehasport Wuppertal Mittwoch 09:00 Uhr | Orthopädie
DESCRIPTION:Rehasport Wuppertal – Mittwoch 09:00 Uhr\nDer orthopädische Rehabilitationssport stärkt gezielt Muskulatur und Beweglichkeit – ideal zur Schmerzlinderung und Vorbeugung. \nRehasport ist sinnvoll zum Beispiel bei:\n\nRückenbeschwerden\nVerschleiß in den Gelenken\nKnie- oder Hüftproblemen\nSchulter- und Nackenschmerzen / Verspannungen\n\nDie Teilnahme ist mit ärztlicher Verordnung nach § 64 SGB IX für dich 100 % kostenfrei\, da die Krankenkasse vollständig übernimmt. \nAblauf & Trainingsformen\n\nÜbungen auf der Matte oder im Stand\nMobilisation & Koordination\nKleingeräte wie Therabänder\, Bälle & Stäbe\nFokus auf Muskelaufbau & Haltung\n\nJe nach Themenstunde fließen Übungen zur Verbesserung von Stabilität\, Balance und Beweglichkeit ein. Das Training wird individuell angepasst. \nDamit der Trainingserfolg nachhaltig ist\, empfehlen wir\, Bewegungsabläufe auch im Alltag umzusetzen. \n\nTeilnahmeoptionen: \n\n\nSelbstzahler (45 Min.)\n \n\nJahresvertrag\n \n\nKostenfrei mit ärztlicher Verordnung und Genehmigung der Krankenkasse. \n\nVerordnung vorhanden?\n☎️ 0202 / 979 8540 – wir beraten dich gerne.
URL:https://tripada-wuppertal.de/event/rehasport-wuppertal-mittwoch-0900/2026-04-22/
LOCATION:Tripada Akademie Wuppertal\, Hofaue 63\, Wuppertal\, NRW\, 42103\, Germany
CATEGORIES:Rehasport
ATTACH;FMTTYPE=image/png:https://tripada-wuppertal.de/wp-content/uploads/2024/12/Tripada-Rehasport-1.png
ORGANIZER;CN="Tripada Akademie":MAILTO:info@tripada.de
END:VEVENT
BEGIN:VEVENT
DTSTART;TZID=Europe/Berlin:20260422T100000
DTEND;TZID=Europe/Berlin:20260422T110000
DTSTAMP:20260422T015242
CREATED:20241204T141300Z
LAST-MODIFIED:20251031T153258Z
UID:10024038-1776852000-1776855600@tripada-wuppertal.de
SUMMARY:Pilates Wuppertal Mittwoch 10:00 Uhr
DESCRIPTION:Pilates Wuppertal Mittwoch 10:00 Uhr\nPilates stärkt deine tiefliegende Rumpfmuskulatur\, verbessert Haltung\, Stabilität und Beweglichkeit – ideal für Einsteiger:innen und Rückengeplagte. \nProgramm\n\nSanfte Übungen für alle Levels\nKräftigung von Bauch- & Beckenbodenmuskulatur\nMobilisation von Rücken & Gelenken\nVerbesserung von Koordination & Balance\nKassenzertifiziert nach § 20 SGB V\n\nPerfekt für einen starken\, ausbalancierten Körper – ohne Leistungsdruck. \n\nTeilnahmeoptionen: \n\n\nOffener Vertrag (55 €/Monat)\n \n\nBefristeter Kurs (10×60)\n \n\nJahresvertrag (49 €/Monat)\n \n\nViele Krankenkassen übernehmen bis zu 100 % der Kurskosten. \n\nFür wen geeignet?\n\nMenschen mit Rücken- und Haltungsbeschwerden\nEinsteiger:innen in sanftes Ganzkörpertraining\nPersonen mit sitzender Tätigkeit\nZur Stärkung des Körperzentrums\n\nFragen? Wir beraten dich gerne: 📞 0202 / 979 8540 \nOder möchtest du zuerst einen befristeten Kurs ausprobieren?\nNutze oben die passenden Links.
URL:https://tripada-wuppertal.de/event/pilates-wuppertal-mittwoch-1000-uhr/2026-04-22/
LOCATION:Tripada Akademie Wuppertal\, Hofaue 63\, Wuppertal\, NRW\, 42103\, Germany
CATEGORIES:Krankenkassenkurs,Pilates,Präventionskurs
ATTACH;FMTTYPE=image/jpeg:https://tripada-wuppertal.de/wp-content/uploads/2025/10/Pilates-in-Wuppertal-in-der-Tripada.jpg
ORGANIZER;CN="Tripada Akademie":MAILTO:info@tripada.de
END:VEVENT
BEGIN:VEVENT
DTSTART;TZID=Europe/Berlin:20260422T153000
DTEND;TZID=Europe/Berlin:20260422T161500
DTSTAMP:20260422T015242
CREATED:20260416T154718Z
LAST-MODIFIED:20260416T154723Z
UID:10038286-1776871800-1776874500@tripada-wuppertal.de
SUMMARY:Rehasport - Mittwoch 15:30 Uhr  - Wuppertal
DESCRIPTION:Rehasport Mittwoch 15:30 Uhr (Orthopädie) in Wuppertal –\nRehasport im Bereich Orthopädie hilft bei Rückenbeschwerden\, Gelenkverschleiß\, Verspannungen oder muskulären Dysbalancen. Du trainierst in kleinen Gruppen\, mit gezielten Übungen für Stabilität\, Beweglichkeit und eine gesunde Körperhaltung – ohne Leistungsdruck. \nWas dich im Rehasport Mittwoch 15:30 Uhr Wuppertal erwartet\n\nGezielter Muskelaufbau für Rücken & Gelenke\nVerbesserung von Beweglichkeit & Koordination\nHaltungsschulung & alltagsgerechtes Training\nÜbungen auf der Matte\, mit Bällen\, Stäben & Theraband\nSoziale Motivation in einer unterstützenden Gruppe\n\nFür wen geeignet?\n\nRücken- und Gelenkbeschwerden\nHaltungsprobleme & muskuläre Schwächen\nChronische Verspannungen & Arthrose\nNach orthopädischer Rehabilitation\nOsteoporose & Endoprothesen-Patient:innen\n\nMit ärztlicher Verordnung (Formular 56) übernehmen die gesetzlichen Krankenkassen die Kosten in der Regel zu 100 %. \n\nWenn du keine Verordnung hast: \n\n\nMonatlich kündbar\n \n\nJahresvertrag\n \n\nSelbstzahleroptionen: Monatlich kündbar 45 €/Monat\, Jahresvertrag 40 €/Monat. \n\nDu hast bereits eine Verordnung?\n☎️ 0202 / 979 8540 – wir beraten dich gerne.
URL:https://tripada-wuppertal.de/event/rehasport-mittwoch-15-30-uhr-wuppertal/2026-04-22/
LOCATION:Tripada Akademie Wuppertal\, Hofaue 63\, Wuppertal\, NRW\, 42103\, Germany
CATEGORIES:Rehasport
ATTACH;FMTTYPE=image/png:https://tripada-wuppertal.de/wp-content/uploads/2024/12/Tripada-Rehasport-1.png
ORGANIZER;CN="Tripada Akademie":MAILTO:info@tripada.de
END:VEVENT
BEGIN:VEVENT
DTSTART;TZID=Europe/Berlin:20260422T180000
DTEND;TZID=Europe/Berlin:20260422T193000
DTSTAMP:20260422T015242
CREATED:20241204T151606Z
LAST-MODIFIED:20251031T160030Z
UID:10025090-1776880800-1776886200@tripada-wuppertal.de
SUMMARY:Tripada Yoga Basic Plus Wuppertal Mittwoch 18:00
DESCRIPTION:Tripada Yoga Basic Plus Wuppertal Mittwoch 18:00 Uhr\nTripada Yoga Basic Plus vertieft deine Yoga-Praxis: mehr Kraft\, dynamische Sequenzen\, Standhaltungen\, Atem- und Beckenbodenarbeit. Perfekt für alle\, die mit Tripada Yoga Basic vertraut sind und einen Schritt weitergehen möchten. \nHighlights des Kurses\nTripada Yoga Basic Plus Wuppertal Mittwoch 18:00 Uhr\n\nSportlichere & dynamischere Übungsfolgen\nVertiefte Atem- und Körperwahrnehmung\nStärkung von Haltung\, Rücken und Beckenboden\nMeditative Elemente zur Stressreduktion\n\nDer Kurs ist nach § 20 SGB V zertifiziert und von den gesetzlichen Krankenkassen bezuschussbar. \n\nTeilnahmeoptionen: \n\n\nOffener Vertrag (55 €/Monat)\n \n\nBefristeter Kurs (10×90)\n \n\nJahresvertrag (49 €/Monat)\n \n\nViele Krankenkassen übernehmen bis zu 100 % der Kurskosten. \n\nFragen? Wir beraten dich gerne: 📞 0202 / 979 8540 \nOder möchtest du erst befristet testen?\nNutze einfach die passende Option oben.
URL:https://tripada-wuppertal.de/event/tripada-yoga-basic-plus-wuppertal-mittwoch-1800/2026-04-22/
LOCATION:Tripada Akademie Wuppertal\, Hofaue 63\, Wuppertal\, NRW\, 42103\, Germany
CATEGORIES:Tripada Yoga,Tripada Yoga Basic Plus
ATTACH;FMTTYPE=image/png:https://tripada-wuppertal.de/wp-content/uploads/2023/11/Tripada-Yoga-Basic-Plus-Wuppertal.png
ORGANIZER;CN="Tripada Akademie":MAILTO:info@tripada.de
END:VEVENT
BEGIN:VEVENT
DTSTART;TZID=Europe/Berlin:20260422T180000
DTEND;TZID=Europe/Berlin:20260422T193000
DTSTAMP:20260422T015242
CREATED:20260416T160705Z
LAST-MODIFIED:20260416T160709Z
UID:10039344-1776880800-1776886200@tripada-wuppertal.de
SUMMARY:Tripada Yoga Basic Wuppertal Mittwoch 18:00 Uhr
DESCRIPTION:Tripada Yoga Basic Wuppertal Mittwoch 18:00 Uhr Wuppertal\nTripada® Yoga Basic ist ideal für Einsteiger:innen und alle\, die Yoga als gesundheitsfördernde\, wohltuende Methode kennenlernen möchten. Du übst in ruhiger Atmosphäre präzise ausgerichtete Haltungen\, Atemsequenzen und Entspannung ohne Leistungsdruck – mit Fokus auf Körperwahrnehmung und Stressabbau. \nWas dich erwartet im Tripada Yoga Mittwoch 18 Uhr\n\nSanfte Ganzkörperkräftigung ohne Überforderung\nMobilisation für Rücken\, Schultern & Gelenke\nVerbesserung von Beweglichkeit & Haltung\nAtemübungen zur Stressreduktion\nTiefenentspannung für mentale Balance\n\nDer Kurs ist nach § 20 SGB V zertifiziert und wird von den gesetzlichen Krankenkassen bezuschusst. \n\nTeilnahmeoptionen: \n Offener Vertrag (55 €/Monat)   Befristeter Kurs (10 × 90)   Jahresvertrag (49 €/Monat) \nViele Krankenkassen übernehmen bis zu 100 % der Kurskosten. \n\nFür wen geeignet? \n\nEinsteiger ohne Vorkenntnisse\nMenschen mit Rücken- und Nackenverspannungen\nBeruflich Sitzende & Stressbelastete\nAlle\, die achtsam und schonend trainieren möchten\n\nFragen? Beratung: 0202 / 979 8540\nOder möchtest du erst befristet testen? — einfach oben die Option wählen. \nWeitere Angebote in Wuppertal\n\nYoga Wuppertal – Übersicht & Vorteile\nPilates Wuppertal – Ganzkörpertraining\nRehasport Wuppertal – ärztlich verordneter Bewegungskurs\n\nBrauche ich Vorkenntnisse?\nNein\, Tripada Yoga Basic ist speziell für Einsteiger entwickelt. \nÜbernimmt die Krankenkasse Kosten?\nJa\, gesetzliche Kassen bezuschussen bis zu 100 %. \nWas brauche ich zum Kurs?\nBequeme Kleidung\, warme Socken\, optional ein Handtuch.
URL:https://tripada-wuppertal.de/event/tripada-yoga-basic-wuppertal-mittwoch-18-uhr/2026-04-22/
LOCATION:Tripada Akademie Wuppertal\, Hofaue 63\, Wuppertal\, NRW\, 42103\, Germany
CATEGORIES:Krankenkassenkurs,Kurse,Präventionskurs,Tripada Yoga,Tripada Yoga Basic
ATTACH;FMTTYPE=image/png:https://tripada-wuppertal.de/wp-content/uploads/2025/06/Tripada-Yoga-Basic-Wuppertal.png
ORGANIZER;CN="Tripada Akademie":MAILTO:info@tripada.de
END:VEVENT
END:VCALENDAR