BEGIN:VCALENDAR
VERSION:2.0
PRODID:-//Yoga, Pilates, Reha Sport Wuppertal - ECPv6.15.20//NONSGML v1.0//EN
CALSCALE:GREGORIAN
METHOD:PUBLISH
X-ORIGINAL-URL:https://tripada-wuppertal.de
X-WR-CALDESC:Veranstaltungen für Yoga, Pilates, Reha Sport Wuppertal
REFRESH-INTERVAL;VALUE=DURATION:PT1H
X-Robots-Tag:noindex
X-PUBLISHED-TTL:PT1H
BEGIN:VTIMEZONE
TZID:Europe/Berlin
BEGIN:DAYLIGHT
TZOFFSETFROM:+0100
TZOFFSETTO:+0200
TZNAME:CEST
DTSTART:20250330T010000
END:DAYLIGHT
BEGIN:STANDARD
TZOFFSETFROM:+0200
TZOFFSETTO:+0100
TZNAME:CET
DTSTART:20251026T010000
END:STANDARD
BEGIN:DAYLIGHT
TZOFFSETFROM:+0100
TZOFFSETTO:+0200
TZNAME:CEST
DTSTART:20260329T010000
END:DAYLIGHT
BEGIN:STANDARD
TZOFFSETFROM:+0200
TZOFFSETTO:+0100
TZNAME:CET
DTSTART:20261025T010000
END:STANDARD
BEGIN:DAYLIGHT
TZOFFSETFROM:+0100
TZOFFSETTO:+0200
TZNAME:CEST
DTSTART:20270328T010000
END:DAYLIGHT
BEGIN:STANDARD
TZOFFSETFROM:+0200
TZOFFSETTO:+0100
TZNAME:CET
DTSTART:20271031T010000
END:STANDARD
END:VTIMEZONE
BEGIN:VEVENT
DTSTART;TZID=Europe/Berlin:20260423T163000
DTEND;TZID=Europe/Berlin:20260423T174500
DTSTAMP:20260423T121641
CREATED:20241204T133402Z
LAST-MODIFIED:20251031T170651Z
UID:10027194-1776961800-1776966300@tripada-wuppertal.de
SUMMARY:Tripada Yoga für Schwangere Wuppertal Donnerstag 16:30
DESCRIPTION:Yoga für Schwangere Wuppertal bei Tripada – Sanft\, sicher & wohltuend\nTripada® Yoga für Schwangere passt unseren Tripada Yoga Basic Kurs sinnvoll an die Bedürfnisse werdender Mütter an. Die Übungen wirken entspannend\, stärken Rücken-\, Bein- und Beckenbodenmuskulatur und unterstützen Körpergefühl sowie Atembewusstsein. \nEmpfehlungen & Sicherheit – Tripada Yoga für Schwangere Wuppertal\n\nStart ab ca. Ende des 3. Monats (Konsolidierungsphase)\nVorherige Rücksprache mit der Ärztin / dem Arzt\nÜbungen nur so lange ausführen\, wie sie gut tun\nKeine medizinischen Bedenken für Teilnahme\n\nDieser Kurs ist von der Zentralen Prüfstelle Prävention zertifiziert und kann von gesetzlichen Krankenkassen bezuschusst werden. \nTeilnahmeoptionen: \n\n\nOffener Vertrag (55 €/Monat)\n \n\nBefristeter Kurs (10×75)\n \n\nViele Krankenkassen übernehmen bis zu 100 % der Kurskosten nach § 20 SGB V. \n\nWarum Tripada® Yoga in der Schwangerschaft?\n\nEntlastung von Rücken & Becken\nWeniger muskuläre Verspannungen\nVerbesserte Atmung & Entspannung\nSanfter Ausgleich innerer Belastungsreaktionen\nStabilisierung der stützenden Muskulatur\n\nFragen zur Buchung?\n📞 0202 / 979 8540 – wir beraten dich gerne.
URL:https://tripada-wuppertal.de/event/tripada-yoga-fuer-schwangere-wuppertal-donnerstag-1630/2026-04-23/
LOCATION:Tripada Akademie Wuppertal\, Hofaue 63\, Wuppertal\, NRW\, 42103\, Germany
CATEGORIES:Tripada Yoga,Tripada Yoga für Schwangere
ATTACH;FMTTYPE=image/png:https://tripada-wuppertal.de/wp-content/uploads/2025/06/Tripada-Yoga-fuer-Schwangere.png
ORGANIZER;CN="Tripada Akademie":MAILTO:info@tripada.de
END:VEVENT
BEGIN:VEVENT
DTSTART;TZID=Europe/Berlin:20260423T180000
DTEND;TZID=Europe/Berlin:20260423T193000
DTSTAMP:20260423T121641
CREATED:20241204T133712Z
LAST-MODIFIED:20251031T125450Z
UID:10027720-1776967200-1776972600@tripada-wuppertal.de
SUMMARY:Tripada Yoga Basic Plus Donnerstag 18:00 Uhr Wuppertal
DESCRIPTION:Tripada Yoga Basic Plus Donnerstag 18:00 Uhr – Wuppertal\nTripada Yoga Basic Plus Donnerstag 18 Uhr ist unsere vertiefte Kursstufe mit dynamischeren Sequenzen\, Meditation und Atemtraining. Ideal für sportlich motivierte Teilnehmende oder Absolvent:innen von Tripada Yoga Basic. \nHighlights\n\nDynamische Vinyasas & Standhaltungen\nVertiefte Atemtechniken (Pranayama)\nStärkung von Rumpf- und Beckenbodenmuskulatur\nMeditation & Achtsamkeitstraining\n\nDer Kurs ist nach § 20 SGB V zertifiziert und kann von den gesetzlichen Krankenkassen bezuschusst werden. \n\nTeilnahmeoptionen: \n\nOffener Vertrag\n\nBefristeter Kurs 10×90\n\nJahresvertrag\n \n\nViele Krankenkassen bezuschussen die Kurskosten – teilweise bis zu 100 %. \n\nFür wen geeignet?\n\nSportliche Einsteiger:innen\nAbsolvent:innen von Tripada Yoga Basic\nMenschen mit Stressbelastung\nFür mehr Stabilität\, Kraft und Ruhe\n\nFragen zur Buchung?\n📞 0202 / 979 8540 – wir beraten dich gerne. \nOder möchtest du zuerst einen befristeten Kurs ausprobieren?\nNutze dazu oben die passenden Links.
URL:https://tripada-wuppertal.de/event/tripada-yoga-basic-plus-donnerstag-1800-wuppertal/2026-04-23/
LOCATION:Tripada Akademie Wuppertal\, Hofaue 63\, Wuppertal\, NRW\, 42103\, Germany
CATEGORIES:Tripada Yoga,Tripada Yoga Basic Plus
ATTACH;FMTTYPE=image/png:https://tripada-wuppertal.de/wp-content/uploads/2023/11/Tripada-Yoga-Basic-Plus-Wuppertal.png
ORGANIZER;CN="Tripada Akademie":MAILTO:info@tripada.de
END:VEVENT
BEGIN:VEVENT
DTSTART;TZID=Europe/Berlin:20260424T163000
DTEND;TZID=Europe/Berlin:20260424T173000
DTSTAMP:20260423T121641
CREATED:20241204T140436Z
LAST-MODIFIED:20251029T130314Z
UID:10029035-1777048200-1777051800@tripada-wuppertal.de
SUMMARY:Tripada Yoga® für Kinder von 9 bis 13 Jahren - Freitag 16:30 Uhr - Wuppertal
DESCRIPTION:Tripada ® Kinderyoga für Kinder von 10 bis 13 Jahren\nwurde aus der Integration langjähriger pädagogischer Erfahrung und Yogaerfahrung entwickelt. \nDas Konzept ist ebenso klar wie flexibel und fördert die Kinder optimal mit den Methoden des Tripada Yoga ®. \nEine gute Yogastunde mit Kindern beinhaltet alle Methodenbausteine des Hatha-Yoga: \n\nMeditative Vorübungen\nAtemübungen\nAsanapraxis\nTiefenentspannung\n\nIn einer Kinderyogastunde liegt der Fokus auf der Schulung der Körper- und damit der Selbstwahrnehmung des Kindes. Für Kinder werden die Methoden des Yoga kindgerecht vermittelt – spielerisch und verbunden mit Leichtigkeit und Phantasie. Durch die Übungspraxis entwickeln die Kinder Kraft\, Beweglichkeit und Koordination. Die Entspannungsfähigkeit wird gesteigert und die Fähigkeit zu Konzentration gefördert.  Im Kinderyoga ist die Teilnehmerzahl auf höchstens 10 Kinder begrenzt. Die Kinder werden in Gruppen von 6 – 9 Jahren und von 10 – 13 Jahren zusammengefasst. \n \n			\n			\n				\n				\n				\n				\n			\n				\n				\n				\n				\n				\n				\n				\n				\n				\n				\n				Als offener Vertrag für 40\,00 € monatlich\n				Jetzt Anmelden\n			\n			\n				\n				\n				\n				\n				\n				\n				\n				\n				\n				Als befristeten Kurs für 150\,00 €\n				Jetzt Anmelden
URL:https://tripada-wuppertal.de/event/tripada-yoga-fuer-kinder-von-9-bis-13-jahren/2026-04-24/
LOCATION:Tripada Akademie Wuppertal\, Hofaue 63\, Wuppertal\, NRW\, 42103\, Germany
CATEGORIES:Krankenkassenkurs,Präventionskurs,Tripada Yoga,Tripada Yoga für Kinder
ATTACH;FMTTYPE=image/jpeg:https://tripada-wuppertal.de/wp-content/uploads/2024/12/Depositphotos_72432019_original-scaled-e1733321266141.jpg
ORGANIZER;CN="Tripada Akademie":MAILTO:info@tripada.de
END:VEVENT
BEGIN:VEVENT
DTSTART;TZID=Europe/Berlin:20260424T180000
DTEND;TZID=Europe/Berlin:20260424T193000
DTSTAMP:20260423T121641
CREATED:20241204T141838Z
LAST-MODIFIED:20251031T191332Z
UID:10029561-1777053600-1777059000@tripada-wuppertal.de
SUMMARY:Tripada Yoga Mediate Wuppertal Freitag 18:00 Uhr
DESCRIPTION:Tripada Yoga Mediate Wuppertal (Freitag 18:00 Uhr)– Intensiv & ganzheitlich\nTripada Yoga Mediate Wuppertal baut auf dem Basic- und Basic-Plus-Level auf und vertieft die Praxis spürbar:\nAnspruchsvollere Asanas\, dynamische Übergänge\, präzise Ausrichtung\, Atemtechniken sowie meditative\nElemente stärken Körper\, Konzentration und innere Ruhe. Die Unterrichtsstruktur folgt dem\nwissenschaftlich fundierten Tripada® System. \nInhalte Tripada Yoga Mediate Wuppertal\n\n10 Termine à 90 Minuten\nKomplexe Übungsfolgen für Kraft & Beweglichkeit\nVertiefte Atem- und Entspannungssequenzen\nVerbesserte Körperwahrnehmung & Haltungskontrolle\nKassenzuschuss bis zu 100 % möglich\n\nDieser Kurs eignet sich ideal für Fortgeschrittene\, sportlich motivierte Neueinsteiger:innen und alle\,\ndie Yoga als ganzheitliches Training erfahren möchten. \nTeilnahmeoptionen: \n\n\n\nOffener Vertrag (55 €/Monat)\n \n\n\nBefristeter Kurs (10×90)\n \n\n\nJahresvertrag (49 €/Monat)\n \n\nViele Krankenkassen übernehmen bis zu 100 % der Kurskosten. \n\nFür wen geeignet?\n\nMenschen mit Yoga-Vorerfahrung\nSportlich motivierte Neueinsteiger:innen\nZur Vertiefung von Atem\, Haltung & Wahrnehmung\nFür bessere Stressregulation und Regeneration\n\nFragen zur Buchung?\n📞 0202 / 979 8540 – wir beraten dich gerne. \nMöchtest du zuerst einen befristeten Kurs ausprobieren?\nNutze oben die passenden Links.
URL:https://tripada-wuppertal.de/event/tripada-yoga-mediate-wuppertal-freitag-1800-uhr/2026-04-24/
LOCATION:Tripada Akademie Wuppertal\, Hofaue 63\, Wuppertal\, NRW\, 42103\, Germany
CATEGORIES:Krankenkassenkurs,Präventionskurs,Tripada Yoga,Tripada Yoga Mediate
ATTACH;FMTTYPE=image/png:https://tripada-wuppertal.de/wp-content/uploads/2023/11/Tripada-Yoga-Mediate-Wuppertal.png
ORGANIZER;CN="Tripada Akademie":MAILTO:info@tripada.de
END:VEVENT
BEGIN:VEVENT
DTSTART;TZID=Europe/Berlin:20260427T180000
DTEND;TZID=Europe/Berlin:20260427T193000
DTSTAMP:20260423T121641
CREATED:20250611T143513Z
LAST-MODIFIED:20251106T130800Z
UID:10020660-1777312800-1777318200@tripada-wuppertal.de
SUMMARY:Tripada Yoga Basic - Montag 18:00 Uhr - Wuppertal
DESCRIPTION:Tripada Yoga Basic in Wuppertal – Montag 18:00 Uhr\nTripada Yoga Basic ist der ideale Einstieg in gesundheitsförderndes Yoga. In ruhiger Atmosphäre erlernst du grundlegende Körperhaltungen\, Atemtechniken und Entspannungsformen – ohne Leistungsdruck und für jedes Fitnesslevel geeignet. \nWas dich erwartet\n\nSchonende Ganzkörperkräftigung\nMobilisation für Rücken\, Schultern & Gelenke\nAtem- und Entspannungstechniken\nVerbesserte Flexibilität & Körpergefühl\nStressabbau durch präzise Ausrichtung\n\nFür wen geeignet?\n\nEinsteiger:innen ohne Vorerfahrung\nRückengeplagte & Stressbelastete\nMenschen mit sitzender Tätigkeit\nTeilnehmende\, die achtsam üben möchten\n\nViele gesetzliche Krankenkassen bezuschussen den Kurs nach § 20 SGB V.\nDu kannst im offenen Vertrag teilnehmen oder im 8–10-Wochen-Kursformat. \n\nJetzt anmelden: \n\n\nOffener Vertrag\n \n\nBefristeter Kurs (10×90)\n \n\nJahresvertrag\n \n\nKassenzuschuss je nach Krankenkasse möglich. \n\nWeitere Informationen\nTripada Yoga in Wuppertal – Übersicht & Vorteile \nHäufige Fragen (FAQ)\nBrauche ich Vorkenntnisse?\nNein – Tripada Basic ist für Anfänger:innen entwickelt. \nWelche Ausrüstung benötige ich?\nBequeme Kleidung\, warme Socken\, optional ein Handtuch. \nGibt es eine Teilnahmebescheinigung?\nJa\, für die Krankenkasse nach § 20 SGB V. \nKann ich später in Tripada Yoga Basic Plus wechseln?\nJa – dieser Kurs bereitet optimal vor. \nFragen? Beratung: 0202 / 9798540 \nWeitere passende Angebote bei Tripada®\n\nYoga in Wuppertal – Übersicht & Vorteile\nFAQ – Häufig gestellte Fragen\nWorkshops & Seminare in Wuppertal\nTripada® Yogalehrerausbildung (YLA)\nWeitere Tripada® Angebote & Ausbildungen\n\nFragen zur Teilnahme? 📞 0202 / 979 8540
URL:https://tripada-wuppertal.de/event/tripada-yoga-basic-montag-18-uhr/2026-04-27/
LOCATION:Tripada Akademie Wuppertal\, Hofaue 63\, Wuppertal\, NRW\, 42103\, Germany
CATEGORIES:Krankenkassenkurs,Präventionskurs,Tripada Yoga,Tripada Yoga Basic
ATTACH;FMTTYPE=image/png:https://tripada-wuppertal.de/wp-content/uploads/2025/06/Tripada-Yoga-Basic-Wuppertal.png
ORGANIZER;CN="Tripada Akademie":MAILTO:info@tripada.de
END:VEVENT
BEGIN:VEVENT
DTSTART;TZID=Europe/Berlin:20260427T200000
DTEND;TZID=Europe/Berlin:20260427T213000
DTSTAMP:20260423T121641
CREATED:20260416T161709Z
LAST-MODIFIED:20260416T161713Z
UID:10019604-1777320000-1777325400@tripada-wuppertal.de
SUMMARY:Tripada Yoga Basic Plus - Montag 20:00 Uhr - Wuppertal
DESCRIPTION:Tripada Yoga Basic Plus in Wuppertal – Montag 20:00 Uhr\nTripada Yoga Basic Plus richtet sich an sportliche Teilnehmende mit stabilen Grundkenntnissen\, die ihre Yogapraxis vertiefen möchten. In ruhiger Atmosphäre übst du flüssigere Sequenzen\, anspruchsvollere Haltungen\, Atemtechniken sowie mentale Fokussierung – achtsam und ohne Leistungsdruck. \nWas dich erwartet\n\nIntensivere Ganzkörperkräftigung\nLängere Standhaltungen & Balance\nVertiefte Atem- & Konzentrationsübungen\nKomplexere Bewegungsfolgen (Vinyasas)\nMentale Ruhe & Stressabbau\n\nFür wen geeignet?\n\nFortgeschrittene Einsteiger:innen mit etwas Erfahrung\nMenschen mit stabilem Belastungsniveau\nAlle\, die Yoga intensiver praktizieren möchten\nAufbautrainierende nach Basic\n\nDie Teilnahme ist möglich im offenen Vertrag \,mit monatlicher Kündigung\, im Jahresvertrag oder als 8- und 10-Wochen-Kurs. Viele gesetzliche Krankenkassen bezuschussen Tripada-Kurse nach § 20 SGB V. \n \n\nJetzt Platz sichern: \n\nOffener Vertrag\n\n\nBefristeter Kurs 10×90\n\n\nJahresvertrag\n\nKassenzuschuss je nach Krankenkasse möglich. \n\nWeitere Informationen\nTripada Yoga in Wuppertal – Übersicht & Vorteile \nHäufige Fragen (FAQ)\nBenötige ich Vorkenntnisse?\nEine grundlegende Yogapraxis (Basic / Basic Plus) ist empfohlen. \nWelche Ausrüstung benötige ich?\nBequeme Kleidung\, Socken\, ein großes Handtuch oder optional eigene Matte. \nBekomme ich eine Teilnahmebescheinigung?\nJa – für die Kostenerstattung durch die Krankenkasse. \nKann ich später in Tripada Yoga Mediate wechseln?\nJa\, Basic Plus bereitet darauf vor. \nFragen? Beratung: 0202 / 9798540 \nWeitere passende Angebote bei Tripada®\n\nYoga in Wuppertal – Übersicht & Vorteile\nFAQ – Häufig gestellte Fragen\nWorkshops & Seminare in Wuppertal\nTripada® Yogalehrerausbildung (YLA)\nWeitere Tripada® Angebote & Ausbildungen\n\nFragen zur Teilnahme? 📞 0202 / 979 8540
URL:https://tripada-wuppertal.de/event/tripada-yoga-basic-plus-montag-20-uhr/2026-04-27/
LOCATION:Tripada Akademie Wuppertal\, Hofaue 63\, Wuppertal\, NRW\, 42103\, Germany
CATEGORIES:Tripada Yoga,Tripada Yoga Basic Plus
ATTACH;FMTTYPE=image/png:https://tripada-wuppertal.de/wp-content/uploads/2023/11/Tripada-Yoga-Basic-Plus-Wuppertal.png
ORGANIZER;CN="Tripada Akademie":MAILTO:info@tripada.de
END:VEVENT
BEGIN:VEVENT
DTSTART;TZID=Europe/Berlin:20260428T093000
DTEND;TZID=Europe/Berlin:20260428T110000
DTSTAMP:20260423T121641
CREATED:20250611T132145Z
LAST-MODIFIED:20251110T152759Z
UID:10021452-1777368600-1777374000@tripada-wuppertal.de
SUMMARY:Tripada Yoga Basic - Dienstag 09:30 Uhr - Wuppertal
DESCRIPTION:Tripada Yoga Basic – Dienstag 09:30 Uhr in Wuppertal\nIdeal für Einsteiger:innen: sichere\, stressfreie Praxis in ruhiger Atmosphäre. Unter qualifizierter Anleitung trainierst Du ohne Leistungsdruck und verbesserst Haltung\, Beweglichkeit und Wohlbefinden. \nVorteile\n\n\n\n\n✔ Durchführung durch zertifizierte Tripada® Yogalehrende\n\n\n✔ Bezuschusst von allen gesetzlichen Krankenkassen nach § 20 SGB V\n\n\n✔ Erstattung bis zu 100 % je nach Krankenkasse möglich\n\n\n✔ Teilnahmebescheinigung für die Kostenerstattung inklusive\n\n\n\n\n✔ Teilnahme wahlweise im offenen Vertrag\, befristet oder im Jahresvertrag \nEinfach\, achtsam und wissenschaftlich fundiert – auf Basis des Tripada®-Systems. Für alle Altersgruppen geeignet. \n \n\nJetzt Platz sichern: \n\nOffener Vertrag (90 Min)\n\nBefristeter Kurs 10×90\n\nJahresvertrag\n\nKostenerstattung je nach Krankenkasse möglich. \n\n\nWeitere Informationen\nTripada Yoga – Übersicht & Vorteile \nHäufige Fragen (FAQ)\nKann ich ohne Vorkenntnisse starten?\nJa. Dieser Kurs ist optimal für Einsteiger:innen. \nWelche Kleidung brauche ich?\nBequeme Sportkleidung\, warme Socken\, kleines Handtuch. \nGibt es Meditation?\nKurze Sequenzen zur Entspannung gehören dazu. \nKann ich später in Basic Plus wechseln?\nJa – dieser Kurs bereitet ideal darauf vor. \nBeratung & Anmeldung: 0202 / 9798540 \nWeitere passende Angebote bei Tripada®\n\nYoga in Wuppertal – Übersicht & Vorteile\nFAQ – Häufig gestellte Fragen\nWorkshops & Seminare in Wuppertal\nTripada® Yogalehrerausbildung (YLA)\nWeitere Tripada® Angebote & Ausbildungen\n\nFragen zur Teilnahme? 📞 0202 / 979 8540
URL:https://tripada-wuppertal.de/event/tripada-yoga-basic-dienstag-0930-uhr/2026-04-28/
LOCATION:Tripada Akademie Wuppertal\, Hofaue 63\, Wuppertal\, NRW\, 42103\, Germany
CATEGORIES:Krankenkassenkurs,Präventionskurs,Tripada Yoga,Tripada Yoga Basic
ATTACH;FMTTYPE=image/png:https://tripada-wuppertal.de/wp-content/uploads/2025/06/Tripada-Yoga-Basic-Wuppertal.png
ORGANIZER;CN="Tripada Akademie":MAILTO:info@tripada.de
END:VEVENT
BEGIN:VEVENT
DTSTART;TZID=Europe/Berlin:20260428T163000
DTEND;TZID=Europe/Berlin:20260428T173000
DTSTAMP:20260423T121641
CREATED:20241205T121423Z
LAST-MODIFIED:20251110T162916Z
UID:10022508-1777393800-1777397400@tripada-wuppertal.de
SUMMARY:Tripada Yoga Basic Plus Dienstag 16:30 Uhr Wuppertal | Krankenkassenzertifiziert
DESCRIPTION:Tripada Yoga Basic Plus Dienstag 16:30 Uhr – Wuppertal\nTripada® Yoga Basic Plus ist die erweiterte Stufe unseres zertifizierten Grundkurses. Du lernst sportlichere Sequenzen\, fordernde Standhaltungen und vertiefte Atemarbeit – stets achtsam aufgebaut und ohne Leistungsdruck. \nHighlights\n\nMehr Kraft & Ausdauer durch dynamische Vinyasas\nStärkung der Rumpf- und Beckenbodenmuskulatur\nVertiefter Fokus auf Atmung & Körperwahrnehmung\nMeditation als Teil jeder Stunde\n\nAlle Inhalte sind nach § 20 SGB V zertifiziert und können von den gesetzlichen Krankenkassen erstattet werden. \n\nTeilnahmeoptionen: \n\nOffener Vertrag\n\nBefristeter Kurs 10×60\n\nJahresvertrag\n\nViele Krankenkassen bezuschussen bis zu 100 % der Kurskosten. \n\nFür wen geeignet?\n\nSportliche Einsteiger:innen\nAbsolvent:innen von Tripada Yoga Basic\nStressabbau & mentaler Ausgleich\nVerbesserung von Haltung & Bewegungsqualität\n\nFragen?\n📞 0202 / 979 8540 – wir beraten dich gerne persönlich. \nOder möchtest du lieber zuerst einen befristeten Kurs testen?\nNutze dazu oben die passenden Links. \nWeitere passende Angebote bei Tripada®\n\nYoga in Wuppertal – Übersicht & Vorteile\nFAQ – Häufig gestellte Fragen\nWorkshops & Seminare in Wuppertal\nTripada® Yogalehrerausbildung (YLA)\nWeitere Tripada® Angebote & Ausbildungen\n\nFragen zur Teilnahme? 📞 0202 / 979 8540
URL:https://tripada-wuppertal.de/event/tripada-yoga-basic-plus-dienstag-1630-wuppertal/2026-04-28/
LOCATION:Tripada Akademie Wuppertal\, Hofaue 63\, Wuppertal\, NRW\, 42103\, Germany
CATEGORIES:Krankenkassenkurs,Präventionskurs,Tripada Yoga,Tripada Yoga Basic Plus
ATTACH;FMTTYPE=image/png:https://tripada-wuppertal.de/wp-content/uploads/2023/11/Tripada-Yoga-Basic-Plus-Wuppertal.png
ORGANIZER;CN="Tripada Akademie":MAILTO:info@tripada.de
END:VEVENT
BEGIN:VEVENT
DTSTART;TZID=Europe/Berlin:20260428T190000
DTEND;TZID=Europe/Berlin:20260428T203000
DTSTAMP:20260423T121641
CREATED:20250612T125504Z
LAST-MODIFIED:20251031T133420Z
UID:10019552-1777402800-1777408200@tripada-wuppertal.de
SUMMARY:Tripada Yoga Mediate Wuppertal Dienstag 19:00 Uhr | Krankenkassenzertifiziert
DESCRIPTION:Tripada® Yoga Mediate – Intensiv & ganzheitlich\nAufbauend auf Basic Plus: Anspruchsvollere Asanas\, vertiefte Atemarbeit & Meditation für Körper und Geist. \nInhalte\n\nKomplexe Übungsfolgen\nFokus auf Ausdauer & Entspannung\nKassenzuschuss bis 100 %\nTeilnahme wahlweise:\n✔ im offenen Vertrag\n✔ befristet über 8- oder 10-Wochenkurs\n✔ oder im Jahresvertrag\n\nIdeal für Fortgeschrittene und sportlich motivierte Neueinsteiger:innen. \n			\n			\n				\n				\n				\n				\n			\n				\n				\n				\n				\n				\n				\n				\n				\n				\n				\n				Offener Vertrag\n				Zur Anmeldung\n			\n			\n				\n				\n				\n				\n				\n				\n				\n				\n				\n				Befristeter Kurs 10x90\n				Zur Anmeldung
URL:https://tripada-wuppertal.de/event/tripada-yoga-mediate-wuppertal-di-19-uhr/2026-04-28/
LOCATION:Tripada Akademie Wuppertal\, Hofaue 63\, Wuppertal\, NRW\, 42103\, Germany
CATEGORIES:Krankenkassenkurs,Präventionskurs,Tripada Yoga,Tripada Yoga Mediate
ATTACH;FMTTYPE=image/png:https://tripada-wuppertal.de/wp-content/uploads/2023/11/Tripada-Yoga-Mediate-Wuppertal.png
ORGANIZER;CN="Tripada Akademie":MAILTO:info@tripada.de
END:VEVENT
BEGIN:VEVENT
DTSTART;TZID=Europe/Berlin:20260430T093000
DTEND;TZID=Europe/Berlin:20260430T110000
DTSTAMP:20260423T121641
CREATED:20241204T122306Z
LAST-MODIFIED:20251031T161252Z
UID:10025617-1777541400-1777546800@tripada-wuppertal.de
SUMMARY:Tripada Yoga Wuppertal Basic Plus Donnerstag 09:30 Uhr
DESCRIPTION:Tripada Yoga Basic Plus Wuppertal Donnerstag 09:30 Uhr\nTripada Yoga Basic Plus erweitert die Grundlagen aus Basic um dynamischere Sequenzen\, kraftvolle Standhaltungen und intensivere Beckenboden- und Atemarbeit. Perfekt für alle\, die ihre Praxis vertiefen möchten. \nHighlights Tripada Yoga Basic Plus Wuppertal Donnerstag 09:30 Uhr\n\nSportlichere Übungsfolgen\nVerbesserte Körperwahrnehmung\nMeditation & Atemtechnik\nMehr Stabilität & Beweglichkeit\n\nDer Kurs ist zertifiziert nach § 20 SGB V und wird von gesetzlichen Krankenkassen bezuschusst. \n\nTeilnahmeoptionen: \n\n\nOffener Vertrag (55 €/Monat)\n \n\nBefristeter Kurs (10×90)\n \n\nJahresvertrag (49 €/Monat)\n \n\nViele Krankenkassen übernehmen einen Großteil der Kurskosten. \n\nDu möchtest erst testen?\nWähle oben den befristeten Kurs aus. \nBeratung & Fragen: 📞 0202 / 979 8540
URL:https://tripada-wuppertal.de/event/tripada-yoga-basic-plus-wuppertal-donnerstag-0930/2026-04-30/
LOCATION:Tripada Akademie Wuppertal\, Hofaue 63\, Wuppertal\, NRW\, 42103\, Germany
CATEGORIES:Krankenkassenkurs,Präventionskurs,Tripada Yoga,Tripada Yoga Basic Plus
ATTACH;FMTTYPE=image/png:https://tripada-wuppertal.de/wp-content/uploads/2023/11/Tripada-Yoga-Basic-Plus-Wuppertal.png
ORGANIZER;CN="Tripada Akademie":MAILTO:info@tripada.de
END:VEVENT
END:VCALENDAR