BEGIN:VCALENDAR
VERSION:2.0
PRODID:-//Yoga, Pilates, Reha Sport Wuppertal - ECPv6.15.20//NONSGML v1.0//EN
CALSCALE:GREGORIAN
METHOD:PUBLISH
X-ORIGINAL-URL:https://tripada-wuppertal.de
X-WR-CALDESC:Veranstaltungen für Yoga, Pilates, Reha Sport Wuppertal
REFRESH-INTERVAL;VALUE=DURATION:PT1H
X-Robots-Tag:noindex
X-PUBLISHED-TTL:PT1H
BEGIN:VTIMEZONE
TZID:Europe/Berlin
BEGIN:DAYLIGHT
TZOFFSETFROM:+0100
TZOFFSETTO:+0200
TZNAME:CEST
DTSTART:20250330T010000
END:DAYLIGHT
BEGIN:STANDARD
TZOFFSETFROM:+0200
TZOFFSETTO:+0100
TZNAME:CET
DTSTART:20251026T010000
END:STANDARD
BEGIN:DAYLIGHT
TZOFFSETFROM:+0100
TZOFFSETTO:+0200
TZNAME:CEST
DTSTART:20260329T010000
END:DAYLIGHT
BEGIN:STANDARD
TZOFFSETFROM:+0200
TZOFFSETTO:+0100
TZNAME:CET
DTSTART:20261025T010000
END:STANDARD
BEGIN:DAYLIGHT
TZOFFSETFROM:+0100
TZOFFSETTO:+0200
TZNAME:CEST
DTSTART:20270328T010000
END:DAYLIGHT
BEGIN:STANDARD
TZOFFSETFROM:+0200
TZOFFSETTO:+0100
TZNAME:CET
DTSTART:20271031T010000
END:STANDARD
END:VTIMEZONE
BEGIN:VEVENT
DTSTART;TZID=Europe/Berlin:20260330T180000
DTEND;TZID=Europe/Berlin:20260330T193000
DTSTAMP:20260420T164211
CREATED:20250611T143513Z
LAST-MODIFIED:20251106T130800Z
UID:10020656-1774893600-1774899000@tripada-wuppertal.de
SUMMARY:Tripada Yoga Basic - Montag 18:00 Uhr - Wuppertal
DESCRIPTION:Tripada Yoga Basic in Wuppertal – Montag 18:00 Uhr\nTripada Yoga Basic ist der ideale Einstieg in gesundheitsförderndes Yoga. In ruhiger Atmosphäre erlernst du grundlegende Körperhaltungen\, Atemtechniken und Entspannungsformen – ohne Leistungsdruck und für jedes Fitnesslevel geeignet. \nWas dich erwartet\n\nSchonende Ganzkörperkräftigung\nMobilisation für Rücken\, Schultern & Gelenke\nAtem- und Entspannungstechniken\nVerbesserte Flexibilität & Körpergefühl\nStressabbau durch präzise Ausrichtung\n\nFür wen geeignet?\n\nEinsteiger:innen ohne Vorerfahrung\nRückengeplagte & Stressbelastete\nMenschen mit sitzender Tätigkeit\nTeilnehmende\, die achtsam üben möchten\n\nViele gesetzliche Krankenkassen bezuschussen den Kurs nach § 20 SGB V.\nDu kannst im offenen Vertrag teilnehmen oder im 8–10-Wochen-Kursformat. \n\nJetzt anmelden: \n\n\nOffener Vertrag\n \n\nBefristeter Kurs (10×90)\n \n\nJahresvertrag\n \n\nKassenzuschuss je nach Krankenkasse möglich. \n\nWeitere Informationen\nTripada Yoga in Wuppertal – Übersicht & Vorteile \nHäufige Fragen (FAQ)\nBrauche ich Vorkenntnisse?\nNein – Tripada Basic ist für Anfänger:innen entwickelt. \nWelche Ausrüstung benötige ich?\nBequeme Kleidung\, warme Socken\, optional ein Handtuch. \nGibt es eine Teilnahmebescheinigung?\nJa\, für die Krankenkasse nach § 20 SGB V. \nKann ich später in Tripada Yoga Basic Plus wechseln?\nJa – dieser Kurs bereitet optimal vor. \nFragen? Beratung: 0202 / 9798540 \nWeitere passende Angebote bei Tripada®\n\nYoga in Wuppertal – Übersicht & Vorteile\nFAQ – Häufig gestellte Fragen\nWorkshops & Seminare in Wuppertal\nTripada® Yogalehrerausbildung (YLA)\nWeitere Tripada® Angebote & Ausbildungen\n\nFragen zur Teilnahme? 📞 0202 / 979 8540
URL:https://tripada-wuppertal.de/event/tripada-yoga-basic-montag-18-uhr/2026-03-30/
LOCATION:Tripada Akademie Wuppertal\, Hofaue 63\, Wuppertal\, NRW\, 42103\, Germany
CATEGORIES:Krankenkassenkurs,Präventionskurs,Tripada Yoga,Tripada Yoga Basic
ATTACH;FMTTYPE=image/png:https://tripada-wuppertal.de/wp-content/uploads/2025/06/Tripada-Yoga-Basic-Wuppertal.png
ORGANIZER;CN="Tripada Akademie":MAILTO:info@tripada.de
END:VEVENT
BEGIN:VEVENT
DTSTART;TZID=Europe/Berlin:20260331T163000
DTEND;TZID=Europe/Berlin:20260331T173000
DTSTAMP:20260420T164211
CREATED:20241205T121423Z
LAST-MODIFIED:20251110T162916Z
UID:10022504-1774974600-1774978200@tripada-wuppertal.de
SUMMARY:Tripada Yoga Basic Plus Dienstag 16:30 Uhr Wuppertal | Krankenkassenzertifiziert
DESCRIPTION:Tripada Yoga Basic Plus Dienstag 16:30 Uhr – Wuppertal\nTripada® Yoga Basic Plus ist die erweiterte Stufe unseres zertifizierten Grundkurses. Du lernst sportlichere Sequenzen\, fordernde Standhaltungen und vertiefte Atemarbeit – stets achtsam aufgebaut und ohne Leistungsdruck. \nHighlights\n\nMehr Kraft & Ausdauer durch dynamische Vinyasas\nStärkung der Rumpf- und Beckenbodenmuskulatur\nVertiefter Fokus auf Atmung & Körperwahrnehmung\nMeditation als Teil jeder Stunde\n\nAlle Inhalte sind nach § 20 SGB V zertifiziert und können von den gesetzlichen Krankenkassen erstattet werden. \n\nTeilnahmeoptionen: \n\nOffener Vertrag\n\nBefristeter Kurs 10×60\n\nJahresvertrag\n\nViele Krankenkassen bezuschussen bis zu 100 % der Kurskosten. \n\nFür wen geeignet?\n\nSportliche Einsteiger:innen\nAbsolvent:innen von Tripada Yoga Basic\nStressabbau & mentaler Ausgleich\nVerbesserung von Haltung & Bewegungsqualität\n\nFragen?\n📞 0202 / 979 8540 – wir beraten dich gerne persönlich. \nOder möchtest du lieber zuerst einen befristeten Kurs testen?\nNutze dazu oben die passenden Links. \nWeitere passende Angebote bei Tripada®\n\nYoga in Wuppertal – Übersicht & Vorteile\nFAQ – Häufig gestellte Fragen\nWorkshops & Seminare in Wuppertal\nTripada® Yogalehrerausbildung (YLA)\nWeitere Tripada® Angebote & Ausbildungen\n\nFragen zur Teilnahme? 📞 0202 / 979 8540
URL:https://tripada-wuppertal.de/event/tripada-yoga-basic-plus-dienstag-1630-wuppertal/2026-03-31/
LOCATION:Tripada Akademie Wuppertal\, Hofaue 63\, Wuppertal\, NRW\, 42103\, Germany
CATEGORIES:Krankenkassenkurs,Präventionskurs,Tripada Yoga,Tripada Yoga Basic Plus
ATTACH;FMTTYPE=image/png:https://tripada-wuppertal.de/wp-content/uploads/2023/11/Tripada-Yoga-Basic-Plus-Wuppertal.png
ORGANIZER;CN="Tripada Akademie":MAILTO:info@tripada.de
END:VEVENT
BEGIN:VEVENT
DTSTART;TZID=Europe/Berlin:20260401T180000
DTEND;TZID=Europe/Berlin:20260401T193000
DTSTAMP:20260420T164211
CREATED:20241204T151606Z
LAST-MODIFIED:20251031T160030Z
UID:10025087-1775066400-1775071800@tripada-wuppertal.de
SUMMARY:Tripada Yoga Basic Plus Wuppertal Mittwoch 18:00
DESCRIPTION:Tripada Yoga Basic Plus Wuppertal Mittwoch 18:00 Uhr\nTripada Yoga Basic Plus vertieft deine Yoga-Praxis: mehr Kraft\, dynamische Sequenzen\, Standhaltungen\, Atem- und Beckenbodenarbeit. Perfekt für alle\, die mit Tripada Yoga Basic vertraut sind und einen Schritt weitergehen möchten. \nHighlights des Kurses\nTripada Yoga Basic Plus Wuppertal Mittwoch 18:00 Uhr\n\nSportlichere & dynamischere Übungsfolgen\nVertiefte Atem- und Körperwahrnehmung\nStärkung von Haltung\, Rücken und Beckenboden\nMeditative Elemente zur Stressreduktion\n\nDer Kurs ist nach § 20 SGB V zertifiziert und von den gesetzlichen Krankenkassen bezuschussbar. \n\nTeilnahmeoptionen: \n\n\nOffener Vertrag (55 €/Monat)\n \n\nBefristeter Kurs (10×90)\n \n\nJahresvertrag (49 €/Monat)\n \n\nViele Krankenkassen übernehmen bis zu 100 % der Kurskosten. \n\nFragen? Wir beraten dich gerne: 📞 0202 / 979 8540 \nOder möchtest du erst befristet testen?\nNutze einfach die passende Option oben.
URL:https://tripada-wuppertal.de/event/tripada-yoga-basic-plus-wuppertal-mittwoch-1800/2026-04-01/
LOCATION:Tripada Akademie Wuppertal\, Hofaue 63\, Wuppertal\, NRW\, 42103\, Germany
CATEGORIES:Tripada Yoga,Tripada Yoga Basic Plus
ATTACH;FMTTYPE=image/png:https://tripada-wuppertal.de/wp-content/uploads/2023/11/Tripada-Yoga-Basic-Plus-Wuppertal.png
ORGANIZER;CN="Tripada Akademie":MAILTO:info@tripada.de
END:VEVENT
BEGIN:VEVENT
DTSTART;TZID=Europe/Berlin:20260402T093000
DTEND;TZID=Europe/Berlin:20260402T110000
DTSTAMP:20260420T164211
CREATED:20241204T122306Z
LAST-MODIFIED:20251031T161252Z
UID:10025613-1775122200-1775127600@tripada-wuppertal.de
SUMMARY:Tripada Yoga Wuppertal Basic Plus Donnerstag 09:30 Uhr
DESCRIPTION:Tripada Yoga Basic Plus Wuppertal Donnerstag 09:30 Uhr\nTripada Yoga Basic Plus erweitert die Grundlagen aus Basic um dynamischere Sequenzen\, kraftvolle Standhaltungen und intensivere Beckenboden- und Atemarbeit. Perfekt für alle\, die ihre Praxis vertiefen möchten. \nHighlights Tripada Yoga Basic Plus Wuppertal Donnerstag 09:30 Uhr\n\nSportlichere Übungsfolgen\nVerbesserte Körperwahrnehmung\nMeditation & Atemtechnik\nMehr Stabilität & Beweglichkeit\n\nDer Kurs ist zertifiziert nach § 20 SGB V und wird von gesetzlichen Krankenkassen bezuschusst. \n\nTeilnahmeoptionen: \n\n\nOffener Vertrag (55 €/Monat)\n \n\nBefristeter Kurs (10×90)\n \n\nJahresvertrag (49 €/Monat)\n \n\nViele Krankenkassen übernehmen einen Großteil der Kurskosten. \n\nDu möchtest erst testen?\nWähle oben den befristeten Kurs aus. \nBeratung & Fragen: 📞 0202 / 979 8540
URL:https://tripada-wuppertal.de/event/tripada-yoga-basic-plus-wuppertal-donnerstag-0930/2026-04-02/
LOCATION:Tripada Akademie Wuppertal\, Hofaue 63\, Wuppertal\, NRW\, 42103\, Germany
CATEGORIES:Krankenkassenkurs,Präventionskurs,Tripada Yoga,Tripada Yoga Basic Plus
ATTACH;FMTTYPE=image/png:https://tripada-wuppertal.de/wp-content/uploads/2023/11/Tripada-Yoga-Basic-Plus-Wuppertal.png
ORGANIZER;CN="Tripada Akademie":MAILTO:info@tripada.de
END:VEVENT
BEGIN:VEVENT
DTSTART;TZID=Europe/Berlin:20260402T180000
DTEND;TZID=Europe/Berlin:20260402T193000
DTSTAMP:20260420T164211
CREATED:20241204T133712Z
LAST-MODIFIED:20251031T125450Z
UID:10027717-1775152800-1775158200@tripada-wuppertal.de
SUMMARY:Tripada Yoga Basic Plus Donnerstag 18:00 Uhr Wuppertal
DESCRIPTION:Tripada Yoga Basic Plus Donnerstag 18:00 Uhr – Wuppertal\nTripada Yoga Basic Plus Donnerstag 18 Uhr ist unsere vertiefte Kursstufe mit dynamischeren Sequenzen\, Meditation und Atemtraining. Ideal für sportlich motivierte Teilnehmende oder Absolvent:innen von Tripada Yoga Basic. \nHighlights\n\nDynamische Vinyasas & Standhaltungen\nVertiefte Atemtechniken (Pranayama)\nStärkung von Rumpf- und Beckenbodenmuskulatur\nMeditation & Achtsamkeitstraining\n\nDer Kurs ist nach § 20 SGB V zertifiziert und kann von den gesetzlichen Krankenkassen bezuschusst werden. \n\nTeilnahmeoptionen: \n\nOffener Vertrag\n\nBefristeter Kurs 10×90\n\nJahresvertrag\n \n\nViele Krankenkassen bezuschussen die Kurskosten – teilweise bis zu 100 %. \n\nFür wen geeignet?\n\nSportliche Einsteiger:innen\nAbsolvent:innen von Tripada Yoga Basic\nMenschen mit Stressbelastung\nFür mehr Stabilität\, Kraft und Ruhe\n\nFragen zur Buchung?\n📞 0202 / 979 8540 – wir beraten dich gerne. \nOder möchtest du zuerst einen befristeten Kurs ausprobieren?\nNutze dazu oben die passenden Links.
URL:https://tripada-wuppertal.de/event/tripada-yoga-basic-plus-donnerstag-1800-wuppertal/2026-04-02/
LOCATION:Tripada Akademie Wuppertal\, Hofaue 63\, Wuppertal\, NRW\, 42103\, Germany
CATEGORIES:Tripada Yoga,Tripada Yoga Basic Plus
ATTACH;FMTTYPE=image/png:https://tripada-wuppertal.de/wp-content/uploads/2023/11/Tripada-Yoga-Basic-Plus-Wuppertal.png
ORGANIZER;CN="Tripada Akademie":MAILTO:info@tripada.de
END:VEVENT
END:VCALENDAR