BEGIN:VCALENDAR
VERSION:2.0
PRODID:-//Yoga, Pilates, Reha Sport Wuppertal - ECPv6.15.20//NONSGML v1.0//EN
CALSCALE:GREGORIAN
METHOD:PUBLISH
X-WR-CALNAME:Yoga, Pilates, Reha Sport Wuppertal
X-ORIGINAL-URL:https://tripada-wuppertal.de
X-WR-CALDESC:Veranstaltungen für Yoga, Pilates, Reha Sport Wuppertal
REFRESH-INTERVAL;VALUE=DURATION:PT1H
X-Robots-Tag:noindex
X-PUBLISHED-TTL:PT1H
BEGIN:VTIMEZONE
TZID:Europe/Berlin
BEGIN:DAYLIGHT
TZOFFSETFROM:+0100
TZOFFSETTO:+0200
TZNAME:CEST
DTSTART:20250330T010000
END:DAYLIGHT
BEGIN:STANDARD
TZOFFSETFROM:+0200
TZOFFSETTO:+0100
TZNAME:CET
DTSTART:20251026T010000
END:STANDARD
BEGIN:DAYLIGHT
TZOFFSETFROM:+0100
TZOFFSETTO:+0200
TZNAME:CEST
DTSTART:20260329T010000
END:DAYLIGHT
BEGIN:STANDARD
TZOFFSETFROM:+0200
TZOFFSETTO:+0100
TZNAME:CET
DTSTART:20261025T010000
END:STANDARD
BEGIN:DAYLIGHT
TZOFFSETFROM:+0100
TZOFFSETTO:+0200
TZNAME:CEST
DTSTART:20270328T010000
END:DAYLIGHT
BEGIN:STANDARD
TZOFFSETFROM:+0200
TZOFFSETTO:+0100
TZNAME:CET
DTSTART:20271031T010000
END:STANDARD
END:VTIMEZONE
BEGIN:VEVENT
DTSTART;TZID=Europe/Berlin:20260406T180000
DTEND;TZID=Europe/Berlin:20260406T193000
DTSTAMP:20260420T120356
CREATED:20250611T143513Z
LAST-MODIFIED:20251106T130800Z
UID:10020657-1775498400-1775503800@tripada-wuppertal.de
SUMMARY:Tripada Yoga Basic - Montag 18:00 Uhr - Wuppertal
DESCRIPTION:Tripada Yoga Basic in Wuppertal – Montag 18:00 Uhr\nTripada Yoga Basic ist der ideale Einstieg in gesundheitsförderndes Yoga. In ruhiger Atmosphäre erlernst du grundlegende Körperhaltungen\, Atemtechniken und Entspannungsformen – ohne Leistungsdruck und für jedes Fitnesslevel geeignet. \nWas dich erwartet\n\nSchonende Ganzkörperkräftigung\nMobilisation für Rücken\, Schultern & Gelenke\nAtem- und Entspannungstechniken\nVerbesserte Flexibilität & Körpergefühl\nStressabbau durch präzise Ausrichtung\n\nFür wen geeignet?\n\nEinsteiger:innen ohne Vorerfahrung\nRückengeplagte & Stressbelastete\nMenschen mit sitzender Tätigkeit\nTeilnehmende\, die achtsam üben möchten\n\nViele gesetzliche Krankenkassen bezuschussen den Kurs nach § 20 SGB V.\nDu kannst im offenen Vertrag teilnehmen oder im 8–10-Wochen-Kursformat. \n\nJetzt anmelden: \n\n\nOffener Vertrag\n \n\nBefristeter Kurs (10×90)\n \n\nJahresvertrag\n \n\nKassenzuschuss je nach Krankenkasse möglich. \n\nWeitere Informationen\nTripada Yoga in Wuppertal – Übersicht & Vorteile \nHäufige Fragen (FAQ)\nBrauche ich Vorkenntnisse?\nNein – Tripada Basic ist für Anfänger:innen entwickelt. \nWelche Ausrüstung benötige ich?\nBequeme Kleidung\, warme Socken\, optional ein Handtuch. \nGibt es eine Teilnahmebescheinigung?\nJa\, für die Krankenkasse nach § 20 SGB V. \nKann ich später in Tripada Yoga Basic Plus wechseln?\nJa – dieser Kurs bereitet optimal vor. \nFragen? Beratung: 0202 / 9798540 \nWeitere passende Angebote bei Tripada®\n\nYoga in Wuppertal – Übersicht & Vorteile\nFAQ – Häufig gestellte Fragen\nWorkshops & Seminare in Wuppertal\nTripada® Yogalehrerausbildung (YLA)\nWeitere Tripada® Angebote & Ausbildungen\n\nFragen zur Teilnahme? 📞 0202 / 979 8540
URL:https://tripada-wuppertal.de/event/tripada-yoga-basic-montag-18-uhr/2026-04-06/
LOCATION:Tripada Akademie Wuppertal\, Hofaue 63\, Wuppertal\, NRW\, 42103\, Germany
CATEGORIES:Krankenkassenkurs,Präventionskurs,Tripada Yoga,Tripada Yoga Basic
ATTACH;FMTTYPE=image/png:https://tripada-wuppertal.de/wp-content/uploads/2025/06/Tripada-Yoga-Basic-Wuppertal.png
ORGANIZER;CN="Tripada Akademie":MAILTO:info@tripada.de
END:VEVENT
END:VCALENDAR